BEGIN:VCALENDAR
VERSION:2.0
PRODID:icalendar-ruby
CALSCALE:GREGORIAN
METHOD:PUBLISH
BEGIN:VEVENT
DTSTAMP:20260423T144335Z
UID:40-769329@salem-catonsville.org
DTSTART:20261101T144500Z
DTEND:20261101T154500Z
CLASS:PUBLIC
CREATED:20260423T083712
DESCRIPTION:Youth Group meets most Sundays between services for prayer\, ga
 mes\, discussions\, service projects\, and more!
LAST-MODIFIED:20260423T083712
LOCATION:Youth Room
SUMMARY:Youth Group
URL;VALUE=URI:https://www.salem-catonsville.org/events/youth-group/2026-11-
 01
END:VEVENT
END:VCALENDAR
