BEGIN:VCALENDAR
VERSION:2.0
PRODID:icalendar-ruby
CALSCALE:GREGORIAN
METHOD:PUBLISH
BEGIN:VEVENT
DTSTAMP:20260423T082257Z
UID:40-768476@salem-catonsville.org
DTSTART:20261004T134500Z
DTEND:20261004T144500Z
CLASS:PUBLIC
CREATED:20260422T230655
DESCRIPTION:Youth Group meets most Sundays between services for prayer\, ga
 mes\, discussions\, service projects\, and more!
LAST-MODIFIED:20260422T230655
LOCATION:Youth Room
SUMMARY:Youth Group
URL;VALUE=URI:https://www.salem-catonsville.org/events/youth-group/2026-10-
 04
END:VEVENT
END:VCALENDAR
