BEGIN:VCALENDAR
VERSION:2.0
PRODID:icalendar-ruby
CALSCALE:GREGORIAN
METHOD:PUBLISH
BEGIN:VEVENT
DTSTAMP:20260423T031307Z
UID:40-768473@salem-catonsville.org
DTSTART:20260913T134500Z
DTEND:20260913T144500Z
CLASS:PUBLIC
CREATED:20260422T230655
DESCRIPTION:Youth Group meets most Sundays between services for prayer\, ga
 mes\, discussions\, service projects\, and more!
LAST-MODIFIED:20260422T230655
LOCATION:Youth Room
SUMMARY:Youth Group
URL;VALUE=URI:https://www.salem-catonsville.org/events/youth-group/2026-09-
 13
END:VEVENT
END:VCALENDAR
