BEGIN:VCALENDAR
VERSION:2.0
PRODID:icalendar-ruby
CALSCALE:GREGORIAN
METHOD:PUBLISH
BEGIN:VEVENT
DTSTAMP:20260423T012306Z
UID:40-767623@salem-catonsville.org
DTSTART:20260906T134500Z
DTEND:20260906T144500Z
CLASS:PUBLIC
CREATED:20260422T201238
DESCRIPTION:Youth Group meets most Sundays between services for prayer\, ga
 mes\, discussions\, service projects\, and more!
LAST-MODIFIED:20260422T201238
LOCATION:Youth Room
SUMMARY:Youth Group
URL;VALUE=URI:https://www.salem-catonsville.org/events/youth-group/2026-09-
 06
END:VEVENT
END:VCALENDAR
