BEGIN:VCALENDAR
VERSION:2.0
PRODID:icalendar-ruby
CALSCALE:GREGORIAN
METHOD:PUBLISH
BEGIN:VEVENT
DTSTAMP:20260422T222628Z
UID:40-766772@salem-catonsville.org
DTSTART:20260823T134500Z
DTEND:20260823T144500Z
CLASS:PUBLIC
CREATED:20260422T172104
DESCRIPTION:Youth Group meets most Sundays between services for prayer\, ga
 mes\, discussions\, service projects\, and more!
LAST-MODIFIED:20260422T172104
LOCATION:Youth Room
SUMMARY:Youth Group
URL;VALUE=URI:https://www.salem-catonsville.org/events/youth-group/2026-08-
 23
END:VEVENT
END:VCALENDAR
