BEGIN:VCALENDAR
VERSION:2.0
PRODID:icalendar-ruby
CALSCALE:GREGORIAN
METHOD:PUBLISH
BEGIN:VEVENT
DTSTAMP:20260422T210100Z
UID:40-765922@salem-catonsville.org
DTSTART:20260816T134500Z
DTEND:20260816T144500Z
CLASS:PUBLIC
CREATED:20260422T142541
DESCRIPTION:Youth Group meets most Sundays between services for prayer\, ga
 mes\, discussions\, service projects\, and more!
LAST-MODIFIED:20260422T142541
LOCATION:Youth Room
SUMMARY:Youth Group
URL;VALUE=URI:https://www.salem-catonsville.org/events/youth-group/2026-08-
 16
END:VEVENT
END:VCALENDAR
