BEGIN:VCALENDAR
VERSION:2.0
PRODID:icalendar-ruby
CALSCALE:GREGORIAN
METHOD:PUBLISH
BEGIN:VEVENT
DTSTAMP:20260421T084758Z
UID:25-757988@salem-catonsville.org
DTSTART:20260312T220000Z
DTEND:20260312T230000Z
CLASS:PUBLIC
CREATED:20260420T211231
DESCRIPTION:Elementary and middle school youth are invited to join our yout
 h choir!
LAST-MODIFIED:20260420T211231
LOCATION:Choir Room
SUMMARY:St. David's Youth Choir Practice
URL;VALUE=URI:https://www.salem-catonsville.org/events/st-davids-youth-choi
 r-practice/2026-03-12
ATTACH;FILENAME=Salem-wo-Poles-and-wires-1-1490.jpg;FMTTYPE=image/jpeg:http
 s://dq5pwpg1q8ru0.cloudfront.net/2025/11/12/19/39/44/36fd789d-c63d-428e-8f
 ff-b253ff9059bc/Salem-wo-Poles-and-wires-1-1490.jpg
END:VEVENT
END:VCALENDAR
