BEGIN:VCALENDAR
VERSION:2.0
PRODID:icalendar-ruby
CALSCALE:GREGORIAN
METHOD:PUBLISH
BEGIN:VEVENT
DTSTAMP:20260421T182629Z
UID:20-760418@salem-catonsville.org
DTSTART:20261101T160000Z
DTEND:20261101T170000Z
CLASS:PUBLIC
CREATED:20260421T133526
DESCRIPTION:Join us for our 11:00 traditional service!
LAST-MODIFIED:20260421T133526
LOCATION:Sanctuary
SUMMARY:Late Sunday Service
URL;VALUE=URI:https://www.salem-catonsville.org/events/late-sunday-service-
 -20/2026-11-01
END:VEVENT
END:VCALENDAR
