BEGIN:VCALENDAR
VERSION:2.0
PRODID:icalendar-ruby
CALSCALE:GREGORIAN
METHOD:PUBLISH
BEGIN:VEVENT
DTSTAMP:20260421T164658Z
UID:20-759571@salem-catonsville.org
DTSTART:20261025T150000Z
DTEND:20261025T160000Z
CLASS:PUBLIC
CREATED:20260421T105505
DESCRIPTION:Join us for our 11:00 traditional service!
LAST-MODIFIED:20260421T105505
LOCATION:Sanctuary
SUMMARY:Late Sunday Service
URL;VALUE=URI:https://www.salem-catonsville.org/events/late-sunday-service-
 -20/2026-10-25
END:VEVENT
END:VCALENDAR
