BEGIN:VCALENDAR
VERSION:2.0
PRODID:icalendar-ruby
CALSCALE:GREGORIAN
METHOD:PUBLISH
BEGIN:VEVENT
DTSTAMP:20260421T132644Z
UID:20-758723@salem-catonsville.org
DTSTART:20261011T150000Z
DTEND:20261011T160000Z
CLASS:PUBLIC
CREATED:20260421T081944
DESCRIPTION:Join us for our 11:00 traditional service!
LAST-MODIFIED:20260421T081944
LOCATION:Sanctuary
SUMMARY:Late Sunday Service
URL;VALUE=URI:https://www.salem-catonsville.org/events/late-sunday-service-
 -20/2026-10-11
END:VEVENT
END:VCALENDAR
