BEGIN:VCALENDAR
VERSION:2.0
PRODID:icalendar-ruby
CALSCALE:GREGORIAN
METHOD:PUBLISH
BEGIN:VEVENT
DTSTAMP:20260421T115646Z
UID:20-757876@salem-catonsville.org
DTSTART:20261004T150000Z
DTEND:20261004T160000Z
CLASS:PUBLIC
CREATED:20260420T211230
DESCRIPTION:Join us for our 11:00 traditional service!
LAST-MODIFIED:20260420T211230
LOCATION:Sanctuary
SUMMARY:Late Sunday Service
URL;VALUE=URI:https://www.salem-catonsville.org/events/late-sunday-service-
 -20/2026-10-04
END:VEVENT
END:VCALENDAR
